BEGIN:VCALENDAR
VERSION:2.0
PRODID:-//guckschdu//NONSGML kigkonsult.se iCalcreator 2.41.92//
CALSCALE:GREGORIAN
METHOD:PUBLISH
UID:31373134-6639-4465-a165-376161316465
X-WR-CALNAME:iCagenda
X-WR-CALDESC:Event Management Extension for Joomla!
X-WR-RELCALID:3E26604A-50F4-4449-8B3E-E4F4932D05B5
X-WR-TIMEZONE:Europe/Berlin
BEGIN:VTIMEZONE
TZID:Europe/Berlin
TZUNTIL:20280326T010000Z
BEGIN:STANDARD
TZNAME:CET
DTSTART:20251026T030000
TZOFFSETFROM:+0200
TZOFFSETTO:+0100
RDATE:20261025T030000
RDATE:20271031T030000
END:STANDARD
BEGIN:DAYLIGHT
TZNAME:CEST
DTSTART:20260329T020000
TZOFFSETFROM:+0100
TZOFFSETTO:+0200
RDATE:20270328T020000
END:DAYLIGHT
END:VTIMEZONE
BEGIN:VEVENT
UID:63646561-3062-4263-b636-623261373266
DTSTAMP:20260425T135422Z
CATEGORIES:Guckschdu
CLASS:PUBLIC
DESCRIPTION;ALTREP="CID:<FFFF__=0ABBE548DFE235B58f9e8a93d@coffeebean.com>":
 After Work SUNSET Party auf dem Neckar\nAfter-Work Sunset Party auf dem Ne
 ckar Welcome on Board! Tauche ein in eine unvergessliche afterwork Partyfa
 hrt auf dem Neckar! Wir bringen dich auf dem Schiff dem atemberaubenden So
 nnenuntergang entgegen. Es erwartet dich ein Abend voller Musik\, Tanz und
  Spaß. Dj Olvis von Hagen alias Oliver Haaga und DJ Cube legen die angesag
 testen Beats aus den Genres Techno\, Reaggaton\, House\, Black auf. Der Mi
 x an Clubbeats wird dafür sorgen. dass die Tanzfläche zum Beben gebracht w
 ird. Genieße die perfekte Kombination aus großartiger Musik und der entspa
 nnten Atmosphäre des Schiffes Diese Partyfahrt ist nicht nur ein Geheimtip
 p\, sondern auch ein absolutes Muss für alle Party begeisterten. Das Boot 
 legt um 19.00 Uhr ab und wir feiern bis in die späten Abendstunden. Von 18
 :30 Uhr bis 22:30 Uhr wirst du mit bester Musik\, guter Gesellschaft und e
 inem unvergesslichen Ambiente verwöhnt. Also schnapp Dir Deine Freunde\, s
 ichere Dir Dein Ticket und bereite dich auf eine unvergessliche Partyfahrt
  auf dem Neckar vor. Sei dabei und erlebe mit uns ein sagenhaftes Event da
 s noch lange in Deinen Erinnerungen bleiben wird.\n&nbsp\;\n&nbsp\;\nTicke
 ts findest du unter: https://floss.neckar-kaeptn.de/events
DTSTART:20260702T163000Z
DTEND:20260702T163000Z
GEO:+48.803562;+9.208274
LOCATION:Neckar Käptn
ORGANIZER:
SEQUENCE:1
SUMMARY:After Work SUNSET Party auf dem Neckar
TRANSP:OPAQUE
URL:https://www.guckschdu.de/events/84-sunset-party-auf-dem-neckar/2026-07-
 02-18-30.html
END:VEVENT
END:VCALENDAR
