BEGIN:VCALENDAR
VERSION:2.0
PRODID:-//guckschdu//NONSGML kigkonsult.se iCalcreator 2.41.92//
CALSCALE:GREGORIAN
METHOD:PUBLISH
UID:63383663-6561-4539-b632-623766343437
X-WR-CALNAME:iCagenda
X-WR-CALDESC:Event Management Extension for Joomla!
X-WR-RELCALID:3E26604A-50F4-4449-8B3E-E4F4932D05B5
X-WR-TIMEZONE:Europe/Berlin
BEGIN:VTIMEZONE
TZID:Europe/Berlin
TZUNTIL:20261025T010000Z
BEGIN:STANDARD
TZNAME:CET
DTSTART:20241027T030000
TZOFFSETFROM:+0200
TZOFFSETTO:+0100
RDATE:20251026T030000
END:STANDARD
BEGIN:DAYLIGHT
TZNAME:CEST
DTSTART:20240331T020000
TZOFFSETFROM:+0100
TZOFFSETTO:+0200
RDATE:20250330T020000
RDATE:20260329T020000
END:DAYLIGHT
END:VTIMEZONE
BEGIN:VEVENT
UID:30313738-3466-4764-b839-363730636564
DTSTAMP:20260422T140327Z
CATEGORIES:Guckschdu
CLASS:PUBLIC
DESCRIPTION;ALTREP="CID:<FFFF__=0ABBE548DFE235B58f9e8a93d@coffeebean.com>":
 Lost in Musik – Saisonabschluss\nam Freitag\, 17. April 2026 - ab 20.00 Uh
 r\nAm Freitag\, 20. März 2026 heißt es wieder: Tanzen\, Feiern\, Abtauchen
 !Ab 20:00 Uhr öffnen wir die Türen im Fischers in der Bernhäuser Str. 28\,
  Echterdingen.\nAn den Decks:DJ Olvis von Haagen &amp\; DJ CarLo – sie bri
 ngen euch die heißesten Sounds der 90ies\, dazu Black\, House &amp\; Latin
 o Beats!Ein Mix\, der garantiert jeden auf die Tanzfläche zieht – alle fei
 ern mit!\nAlle Infos unter: www.guckschdu.de\nCoole Drinks\, gute Stimmung
  und feinste Musik – sei dabei\, wenn Echterdingen wieder Lost in Musik ge
 ht!\n#LostInMusik #Echterdingen #LeinfeldenEchterdingen #DJOlvisVonHaagen 
 #90iesFlashback #BlackMusic #HouseMusic #LatinoVibes #Guckschdu #PartyTime
  #Feierabend #Tanzen #WeekendVibes #MusikLiebhaber #Freitagabend #Nightlif
 e #FeiernOhneEnde #DanceAllNight #ClubFeeling\n&nbsp\;\n\n&nbsp\;
DTSTART:20250117T190000Z
DTEND:20250117T190000Z
GEO:+48.687901;+9.171185
LOCATION:Fischers
ORGANIZER:
SEQUENCE:1
SUMMARY:Lost in Music | DJ Olvis von Haagen
TRANSP:OPAQUE
URL:https://www.guckschdu.de/events/58-lost-in-music-11/2025-01-17-20-00.ht
 ml
END:VEVENT
END:VCALENDAR
