BEGIN:VCALENDAR
VERSION:2.0
PRODID:-//guckschdu//NONSGML kigkonsult.se iCalcreator 2.41.92//
CALSCALE:GREGORIAN
METHOD:PUBLISH
UID:62363436-3531-4764-b030-313338333837
X-WR-CALNAME:iCagenda
X-WR-CALDESC:Event Management Extension for Joomla!
X-WR-RELCALID:3E26604A-50F4-4449-8B3E-E4F4932D05B5
X-WR-TIMEZONE:Europe/Berlin
BEGIN:VTIMEZONE
TZID:Europe/Berlin
TZUNTIL:20280326T010000Z
BEGIN:STANDARD
TZNAME:CET
DTSTART:20251026T030000
TZOFFSETFROM:+0200
TZOFFSETTO:+0100
RDATE:20261025T030000
RDATE:20271031T030000
END:STANDARD
BEGIN:DAYLIGHT
TZNAME:CEST
DTSTART:20260329T020000
TZOFFSETFROM:+0100
TZOFFSETTO:+0200
RDATE:20270328T020000
END:DAYLIGHT
END:VTIMEZONE
BEGIN:VEVENT
UID:34623063-3961-4832-b332-316261396239
DTSTAMP:20260422T120925Z
CATEGORIES:Guckschdu
CLASS:PUBLIC
DESCRIPTION;ALTREP="CID:<FFFF__=0ABBE548DFE235B58f9e8a93d@coffeebean.com>":
 Ufo-Summer Revival - Eine Zeitreise für Jung und JunggebliebeneMi. 13. Mai
  2026&nbsp\;(Tag vor Feiertag)\nClub Hot Spot\, Filderstadt-BernhausenEinl
 ass: 20 UhrOldschool Beats – Neue Erinnerungen!\nDie legendäre UFO-Party i
 st zurück – lasst uns gemeinsam die Nacht zum Tag machen!Erlebe das Reviva
 l im Club Hot Spot (Echterdinger Str. 115\, 70794 Filderstadt) – mit kulti
 ger Musik\, guter Stimmung und einem Abend voller Nostalgie.\nJetzt Ticket
 s sichern im VVK:www.visityou.deoder direkt bei Stempel-Haaga-Druckerei\, 
 EchterdingenTel: 0711 - 79 15 85\nBildergalerie &amp\; Video zum Einstimme
 n – Hier klicken &amp\; in Erinnerungen schwelgen!Sei dabei – wir freuen u
 ns auf Dich!\n#UFOSummerRevival #ClubHotSpot #FilderstadtFeiert #PartyVorF
 eiertag #RevivalNight\n&nbsp\;
DTSTART:20260513T180000Z
DTEND:20260513T180000Z
GEO:+48.677296;+9.198925
LOCATION:Club Hot-Spot
ORGANIZER:
SEQUENCE:1
SUMMARY:UFO-Revival Mai 2026
TRANSP:OPAQUE
URL:https://www.guckschdu.de/events/42-UFO-Revival-Mai-2024/2026-05-13-20-0
 0.html
END:VEVENT
END:VCALENDAR
