BEGIN:VCALENDAR
VERSION:2.0
PRODID:-//guckschdu//NONSGML kigkonsult.se iCalcreator 2.41.92//
CALSCALE:GREGORIAN
METHOD:PUBLISH
UID:34613933-3364-4435-b638-383165623837
X-WR-CALNAME:iCagenda
X-WR-CALDESC:Event Management Extension for Joomla!
X-WR-RELCALID:3E26604A-50F4-4449-8B3E-E4F4932D05B5
X-WR-TIMEZONE:Europe/Berlin
BEGIN:VTIMEZONE
TZID:Europe/Berlin
TZUNTIL:20171029T010000Z
BEGIN:STANDARD
TZNAME:CET
DTSTART:20151025T030000
TZOFFSETFROM:+0200
TZOFFSETTO:+0100
RDATE:20161030T030000
END:STANDARD
BEGIN:DAYLIGHT
TZNAME:CEST
DTSTART:20160327T020000
TZOFFSETFROM:+0100
TZOFFSETTO:+0200
RDATE:20170326T020000
END:DAYLIGHT
END:VTIMEZONE
BEGIN:VEVENT
UID:65643436-3261-4134-b163-343131616239
DTSTAMP:20260420T164752Z
CATEGORIES:Guckschdu
CLASS:PUBLIC
DESCRIPTION;ALTREP="CID:<FFFF__=0ABBE548DFE235B58f9e8a93d@coffeebean.com>":
 DJ Olvis von Haagen in da House\nSpontan\, planlos\, unkontrolliert - für 
 alle\, die Spaß haben wollen!\nAm 8. April 2016 von 22 - 5 Uhr\nIncontroBe
 rnhäuser Str. 370771 Echterdingen
DTSTART:20160408T200000Z
DTEND:20160409T030000Z
GEO:+48.688778;+9.16742
LOCATION:Incontro
ORGANIZER:
SEQUENCE:1
SUMMARY:DJ Olvis von Haagen in da House
TRANSP:OPAQUE
URL:https://www.guckschdu.de/component/icagenda/33-incontro-party.html
END:VEVENT
END:VCALENDAR
